BEGIN:VCALENDAR
VERSION:2.0
PRODID:-//ChamberMaster//Event Calendar 2.0//EN
METHOD:PUBLISH
X-PUBLISHED-TTL:P3D
REFRESH-INTERVAL:P3D
CALSCALE:GREGORIAN
BEGIN:VEVENT
DTSTART:20180201T230000Z
DTEND:20180202T020000Z
X-MICROSOFT-CDO-ALLDAYEVENT:FALSE
SUMMARY:2018 Chamber Annual Meeting & Awards Night
DESCRIPTION:Join the Madison County Chamber of Commerce membership as we celebrate the achievements of 2017 and look ahead to an exciting year in 2018!
X-ALT-DESC;FMTTYPE=text/html:Join the Madison County Chamber of Commerce membership as we celebrate the achievements of 2017 and look ahead to an exciting year in 2018!
LOCATION:Jackson Community Building located on the Madison County Fairgrounds
UID:e.2010.1279
SEQUENCE:3
DTSTAMP:20260424T232706Z
URL:https://business.madisoncounty.com/events/details/2018-chamber-annual-meeting-awards-night-1279
END:VEVENT

END:VCALENDAR
