BEGIN:VCALENDAR
VERSION:2.0
PRODID:-//ChamberMaster//Event Calendar 2.0//EN
METHOD:PUBLISH
X-PUBLISHED-TTL:P3D
REFRESH-INTERVAL:P3D
CALSCALE:GREGORIAN
BEGIN:VEVENT
DTSTART:20201119T223000Z
DTEND:20201120T010000Z
X-MICROSOFT-CDO-ALLDAYEVENT:FALSE
SUMMARY:Bazaar Third Thursdays
DESCRIPTION:The Winterset Merchants' Group invites you to join them for some evening shopping\, strolling\, and fun!\n\n \n\n"Bazaar Third Thursdays" will be from 4:30-7:00 pm on the 3rd Thursday of each month through the end of the year. Shop the small businesses on the courthouse square and also find crafters\, music\, food\, and fun! \n\n \n\nSmall businesses are the backbone of Madison County and need our support now more than ever!
X-ALT-DESC;FMTTYPE=text/html:<div style="color: rgb(46\, 47\, 47)\; font-family: Verdana\, Geneva\, sans-serif\; font-size: 14px\; white-space: pre-wrap\;"><span style="font-family: Arial\, Verdana\, Helvetica\, sans-serif\;">The Winterset Merchants&#39\; Group invites you to join them for some evening shopping\, strolling\, and fun!</span></div>\n\n<div style="color: rgb(46\, 47\, 47)\; font-family: Verdana\, Geneva\, sans-serif\; font-size: 14px\; white-space: pre-wrap\;"><span style="font-family: Arial\, Verdana\, Helvetica\, sans-serif\;">&nbsp\;</span></div>\n\n<div style="color: rgb(46\, 47\, 47)\; font-family: Verdana\, Geneva\, sans-serif\; font-size: 14px\; white-space: pre-wrap\;"><span style="font-family: Arial\, Verdana\, Helvetica\, sans-serif\;">&quot\;Bazaar Third Thursdays&quot\; will be from 4:30-7:00 pm on the 3rd Thursday of each month through the end of the year. Shop the small businesses on the courthouse square and also find crafters\, music\, food\, and fun! </span></div>\n\n<div style="color: rgb(46\, 47\, 47)\; font-family: Verdana\, Geneva\, sans-serif\; font-size: 14px\; white-space: pre-wrap\;"><span style="font-family: Arial\, Verdana\, Helvetica\, sans-serif\;">&nbsp\;</span></div>\n\n<div style="color: rgb(46\, 47\, 47)\; font-family: Verdana\, Geneva\, sans-serif\; font-size: 14px\; white-space: pre-wrap\;"><span style="font-family: Arial\, Verdana\, Helvetica\, sans-serif\; font-style: italic\;">Small businesses are the backbone of Madison County and need our support now more than ever!&nbsp\;</span></div>\n
LOCATION:On the courthouse square in Winterset
UID:e.2010.1996
SEQUENCE:3
DTSTAMP:20260421T065607Z
URL:https://business.madisoncounty.com/events/details/bazaar-third-thursdays-1996
END:VEVENT

END:VCALENDAR
