BEGIN:VCALENDAR
VERSION:2.0
PRODID:-//ChamberMaster//Event Calendar 2.0//EN
METHOD:PUBLISH
X-PUBLISHED-TTL:P3D
REFRESH-INTERVAL:P3D
CALSCALE:GREGORIAN
BEGIN:VEVENT
DTSTART:20180714T150000Z
DTEND:20180714T163000Z
X-MICROSOFT-CDO-ALLDAYEVENT:FALSE
SUMMARY:Cartooning Basics
DESCRIPTION:Join artist\, Chad Serhal\, for an exciting process based workshop in which students learn techniques for successful cartooning. Recommended for ages 12 and up. Chad Serhal - https://www.youtube.com/user/caserhal Bio- Chad Serhal is a visual artist working with digital video\, sound\, cartooning and collage. He earned his BA in Liberal Studies Fine Art & Film from Indiana University in Bloomington Indiana\, a recording arts degree from The Conservatory of Recording Arts and Sciences in Tempe AZ and will begin his Master's in Fine Arts in the area of Sculpture at the University of Florida in Gainesville FL come this fall.
X-ALT-DESC;FMTTYPE=text/html:Join artist\, Chad Serhal\, for an exciting process based workshop in which students learn techniques for successful cartooning. Recommended for ages 12 and up. Chad Serhal - https://www.youtube.com/user/caserhal Bio- Chad Serhal is a visual artist working with digital video\, sound\, cartooning and collage. He earned his BA in Liberal Studies Fine Art &amp\; Film from Indiana University in Bloomington Indiana\, a recording arts degree from The Conservatory of Recording Arts and Sciences in Tempe AZ and will begin his Master&#39\;s in Fine Arts in the area of Sculpture at the University of Florida in Gainesville FL come this fall.
LOCATION:Winterset Art Center 224 S. John Wayne Drive Winterset IA 50273
UID:e.2010.1485
SEQUENCE:3
DTSTAMP:20260422T042320Z
URL:https://business.madisoncounty.com/events/details/cartooning-basics-1485
END:VEVENT

END:VCALENDAR
