BEGIN:VCALENDAR
VERSION:2.0
PRODID:-//ChamberMaster//Event Calendar 2.0//EN
METHOD:PUBLISH
X-PUBLISHED-TTL:P3D
REFRESH-INTERVAL:P3D
CALSCALE:GREGORIAN
BEGIN:VEVENT
DTSTART;VALUE=DATE:20210730
DTEND;VALUE=DATE:20210801
TRANSP:TRANSPARENT
X-MICROSOFT-CDO-ALLDAYEVENT:TRUE
SUMMARY:Crazy Days
DESCRIPTION:Join the Winterset Merchants for a shopping extravaganza! Crazy days are two days filled with early hours (some stores open as early as 8am) and good deals. Shop local\, dine local\, support local!
X-ALT-DESC;FMTTYPE=text/html:Join the Winterset Merchants for a shopping extravaganza! Crazy days are two days filled with early hours (some stores open as early as 8am) and good deals. Shop local\, dine local\, support local!
LOCATION:Winterset Historic Courthouse District
UID:e.2010.2088
SEQUENCE:3
DTSTAMP:20260423T233351Z
URL:https://business.madisoncounty.com/events/details/crazy-days-2088
END:VEVENT

END:VCALENDAR
