BEGIN:VCALENDAR
VERSION:2.0
PRODID:-//ChamberMaster//Event Calendar 2.0//EN
METHOD:PUBLISH
X-PUBLISHED-TTL:P3D
REFRESH-INTERVAL:P3D
CALSCALE:GREGORIAN
BEGIN:VEVENT
DTSTART:20171124T230000Z
DTEND:20171125T020000Z
X-MICROSOFT-CDO-ALLDAYEVENT:FALSE
SUMMARY:Festival of Lights
DESCRIPTION:Kick off the holiday season with a visit from Santa Claus\, lighted Christmas parade\, live music\, and more!\nHighlights include:\n\n\n	Live Music - Enjoy entertainment from local musicians to get you in the holiday spirit!  Music stage is on the west side of the courthouse steps.\n	Santa Claus - Everyone's favorite jolly ol' elf will be in the courthouse to hear what's on your child's wishlist\, and pose for photos!\n	Hot Food & Drinks - Warm up with cocoa\, cider\, soup\, and more as you anticipate the start of the parade and Santa's official arrival!\n	Holiday Shopping with Local Businesses - Venture into the warm\, cozy stores on the square to find unique gifts for everyone on your shopping list!\n	Lighted Parade - Enjoy festively-decorated floats traveling around all sides of the square! \n	Strolling Carolers - Winterset High School choir students are anxious to get you in the holiday spirit!  Wander into the warm lit stores on Winterset's courthouse square to hear familiar carols and spirited twists on holiday tunes!  \n	Festive luminaries\, warm burn barrels\, & holiday cheer!\n\n\n\n\nParade theme - "Candyland Christmas"\n\nClick here to download a parade application!\n\n\n\nClick here to download an event poster!
X-ALT-DESC;FMTTYPE=text/html:<span style="font-family:arial\;"><span style="font-size:14px\;">Kick off the holiday season with a visit from Santa Claus\, lighted Christmas parade\, live music\, and more!</span></span>\n<p style="margin: 0px 0px 15px\; padding: 0px\; border: 0px\; font-family: Helvetica\, Arial\, sans-serif\; font-size: 12px\; font-stretch: inherit\; line-height: 20px\; vertical-align: baseline\; color: rgb(102\, 102\, 102)\; background-color: rgb(255\, 255\, 255)\;"><span style="font-family:arial\;"><span style="font-size:14px\;">Highlights include:</span></span></p>\n\n<ul style="margin: 0px 0px 0px 20px\; padding: 0px\; border: 0px\; font-family: Helvetica\, Arial\, sans-serif\; font-size: 12px\; font-stretch: inherit\; vertical-align: baseline\; list-style-position: initial\; list-style-image: initial\; color: rgb(102\, 102\, 102)\; background-color: rgb(255\, 255\, 255)\;">\n	<li style="margin: 0px 0px 4px\; padding: 0px\; border: 0px\; font-family: inherit\; font-size: inherit\; font-style: inherit\; font-variant: inherit\; font-weight: inherit\; font-stretch: inherit\; line-height: inherit\; vertical-align: baseline\;"><span style="font-family:arial\;"><span style="font-size:14px\;"><strong style="margin: 0px\; padding: 0px\; border: 0px\; font-family: inherit\; font-size: inherit\; font-style: inherit\; font-variant: inherit\; font-stretch: inherit\; line-height: inherit\; vertical-align: baseline\;">Live Music</strong>&nbsp\;- Enjoy entertainment from local musicians to get you in the holiday spirit! &nbsp\;Music stage is on the west side of the courthouse steps.</span></span></li>\n	<li style="margin: 0px 0px 4px\; padding: 0px\; border: 0px\; font-family: inherit\; font-size: inherit\; font-style: inherit\; font-variant: inherit\; font-weight: inherit\; font-stretch: inherit\; line-height: inherit\; vertical-align: baseline\;"><span style="font-family:arial\;"><span style="font-size:14px\;"><strong style="margin: 0px\; padding: 0px\; border: 0px\; font-family: inherit\; font-size: inherit\; font-style: inherit\; font-variant: inherit\; font-stretch: inherit\; line-height: inherit\; vertical-align: baseline\;">Santa Claus -&nbsp\;</strong>Everyone&#39\;s favorite jolly ol&#39\; elf will be in the courthouse to hear what&#39\;s on your child&#39\;s wishlist\, and pose for photos!</span></span></li>\n	<li style="margin: 0px 0px 4px\; padding: 0px\; border: 0px\; font-family: inherit\; font-size: inherit\; font-style: inherit\; font-variant: inherit\; font-weight: inherit\; font-stretch: inherit\; line-height: inherit\; vertical-align: baseline\;"><span style="font-family:arial\;"><span style="font-size:14px\;"><strong style="margin: 0px\; padding: 0px\; border: 0px\; font-family: inherit\; font-size: inherit\; font-style: inherit\; font-variant: inherit\; font-stretch: inherit\; line-height: inherit\; vertical-align: baseline\;">Hot Food &amp\; Drinks</strong>&nbsp\;- Warm up with cocoa\, cider\, soup\, and more as you anticipate the start of the parade and Santa&#39\;s official arrival!</span></span></li>\n	<li style="margin: 0px 0px 4px\; padding: 0px\; border: 0px\; font-family: inherit\; font-size: inherit\; font-style: inherit\; font-variant: inherit\; font-weight: inherit\; font-stretch: inherit\; line-height: inherit\; vertical-align: baseline\;"><span style="font-family:arial\;"><span style="font-size:14px\;"><strong style="margin: 0px\; padding: 0px\; border: 0px\; font-family: inherit\; font-size: inherit\; font-style: inherit\; font-variant: inherit\; font-stretch: inherit\; line-height: inherit\; vertical-align: baseline\;">Holiday Shopping with Local Businesses</strong>&nbsp\;- Venture into the warm\, cozy stores on the square to find unique gifts for everyone on your shopping list!</span></span></li>\n	<li style="margin: 0px 0px 4px\; padding: 0px\; border: 0px\; font-family: inherit\; font-size: inherit\; font-style: inherit\; font-variant: inherit\; font-weight: inherit\; font-stretch: inherit\; line-height: inherit\; vertical-align: baseline\;"><span style="font-family:arial\;"><span style="font-size:14px\;"><strong style="margin: 0px\; padding: 0px\; border: 0px\; font-family: inherit\; font-size: inherit\; font-style: inherit\; font-variant: inherit\; font-stretch: inherit\; line-height: inherit\; vertical-align: baseline\;">Lighted Parade</strong>&nbsp\;- Enjoy festively-decorated floats traveling around all sides of the square!&nbsp\;</span></span></li>\n	<li style="margin: 0px 0px 4px\; padding: 0px\; border: 0px\; font-family: inherit\; font-size: inherit\; font-style: inherit\; font-variant: inherit\; font-weight: inherit\; font-stretch: inherit\; line-height: inherit\; vertical-align: baseline\;"><span style="font-family:arial\;"><span style="font-size:14px\;"><strong style="margin: 0px\; padding: 0px\; border: 0px\; font-family: inherit\; font-size: inherit\; font-style: inherit\; font-variant: inherit\; font-stretch: inherit\; line-height: inherit\; vertical-align: baseline\;">Strolling Carolers</strong>&nbsp\;- Winterset High School choir students are anxious to get you in the holiday spirit! &nbsp\;Wander into the warm lit stores on Winterset&#39\;s courthouse square to hear familiar carols and spirited twists on holiday tunes! &nbsp\;</span></span></li>\n	<li style="margin: 0px 0px 4px\; padding: 0px\; border: 0px\; font-family: inherit\; font-size: inherit\; font-style: inherit\; font-variant: inherit\; font-weight: inherit\; font-stretch: inherit\; line-height: inherit\; vertical-align: baseline\;"><span style="font-family:arial\;"><span style="font-size:14px\;"><strong style="margin: 0px\; padding: 0px\; border: 0px\; font-family: inherit\; font-size: inherit\; font-style: inherit\; font-variant: inherit\; font-stretch: inherit\; line-height: inherit\; vertical-align: baseline\;">Festive luminaries\, warm burn barrels\, &amp\; holiday cheer!</strong></span></span></li>\n</ul>\n\n<div style="margin: 0px 0px 4px\; padding: 0px\; border: 0px\; font-family: inherit\; font-size: inherit\; font-style: inherit\; font-variant: inherit\; font-stretch: inherit\; line-height: inherit\; vertical-align: baseline\;"><br />\n<b>Parade theme - &quot\;Candyland Christmas&quot\;</b><br />\n<a href="https://chambermaster.blob.core.windows.net/userfiles/UserFiles/chambers/2010/File/2017FOLParadeRegistration.pdf">Click here to download a parade application!</a><br />\n<br />\n<a href="https://chambermaster.blob.core.windows.net/userfiles/UserFiles/chambers/2010/File/3FOLposter11-15-17horizontal.pdf">Click here to download an event poster!</a></div>\n
LOCATION:All activities are on the Courthouse Square in Winterset
UID:e.2010.1258
SEQUENCE:3
DTSTAMP:20260425T143031Z
URL:https://business.madisoncounty.com/events/details/festival-of-lights-1258
END:VEVENT

END:VCALENDAR
