BEGIN:VCALENDAR
VERSION:2.0
PRODID:-//ChamberMaster//Event Calendar 2.0//EN
METHOD:PUBLISH
X-PUBLISHED-TTL:P3D
REFRESH-INTERVAL:P3D
CALSCALE:GREGORIAN
BEGIN:VEVENT
DTSTART:20211126T230000Z
DTEND:20211127T020000Z
X-MICROSOFT-CDO-ALLDAYEVENT:FALSE
SUMMARY:Festival of Lights
DESCRIPTION:Santa Claus - Everyone's favorite jolly ol' elf will be in the last float of the parade. There will be a table on the courthouse lawn to write a letter to Santa.\n	Holiday Shopping with Local Businesses - Venture into the warm\, cozy stores on the square to find unique gifts for everyone on your shopping list!\n	"Elf" at the Iowa Theater following the lighted parade.  FREE admission with the donation of a non-perishable food item for local food pantry.\n\n\nThank you to our generous sponsors for making this event possible!\n\n\n	1st Ave Collective\n	American State Bank\n	Angel Wings & CT\n	B. Shannon Designs\n	Ben Franklin\n	Bridge 6 Design Co\n	Heartland Fiber\n	Homefront Real Estate\n	Iowa Quilt Museum\n	John Wayne Birthplace & Museum\n	Judge Lewis House Bed & Breakfast\n	Madison County Mercantile\n	Midwest Land Group\n	Montross Pharmacy\n	Piece Works Quilt Shop\n	Pine Creek Ltd.\n	Pro Team Insurance\n	Salon 107\n	Shawn's Furniture\n	Speckled Hen Farms\n	The Drift\n	The Iowa Theater\n	Village Bootery\n	White Cottage Market\n	Winterset Ballet & Dance Studio
X-ALT-DESC;FMTTYPE=text/html:&nbsp\;\n<ul style="margin: 0px 0px 0px 20px\; padding: 0px\; border: 0px\; font-family: Helvetica\, Arial\, sans-serif\; font-size: 12px\; font-stretch: inherit\; vertical-align: baseline\; list-style-position: initial\; list-style-image: initial\; color: rgb(102\, 102\, 102)\; background-color: rgb(255\, 255\, 255)\;">\n	<li style="margin: 0px 0px 4px\; padding: 0px\; border: 0px\; font-family: inherit\; font-size: inherit\; font-style: inherit\; font-variant: inherit\; font-weight: inherit\; font-stretch: inherit\; line-height: inherit\; vertical-align: baseline\;"><span style="font-family:arial\;"><span style="font-size:14px\;"><strong style="margin: 0px\; padding: 0px\; border: 0px\; font-family: inherit\; font-size: inherit\; font-style: inherit\; font-variant: inherit\; font-stretch: inherit\; line-height: inherit\; vertical-align: baseline\;">Santa Claus -&nbsp\;</strong>Everyone&#39\;s favorite jolly ol&#39\; elf will be in the last float of the parade. There will be a table on the courthouse lawn to write a letter to Santa.</span></span></li>\n	<li style="margin: 0px 0px 4px\; padding: 0px\; border: 0px\; font-family: inherit\; font-size: inherit\; font-style: inherit\; font-variant: inherit\; font-weight: inherit\; font-stretch: inherit\; line-height: inherit\; vertical-align: baseline\;"><span style="font-family:arial\;"><span style="font-size:14px\;"><strong style="margin: 0px\; padding: 0px\; border: 0px\; font-family: inherit\; font-size: inherit\; font-style: inherit\; font-variant: inherit\; font-stretch: inherit\; line-height: inherit\; vertical-align: baseline\;">Holiday Shopping with Local Businesses</strong>&nbsp\;- Venture into the warm\, cozy stores on the square to find unique gifts for everyone on your shopping list!</span></span></li>\n	<li style="margin: 0px 0px 4px\; padding: 0px\; border: 0px\; font-family: inherit\; font-size: inherit\; font-style: inherit\; font-variant: inherit\; font-weight: inherit\; font-stretch: inherit\; line-height: inherit\; vertical-align: baseline\;"><span style="font-family:arial\;"><span style="font-size:14px\;"><strong>&quot\;Elf&quot\; at the Iowa Theater</strong> following the lighted parade.&nbsp\; FREE admission with the donation of a non-perishable food item for local food pantry.</span></span></li>\n</ul>\n\n<div style="margin: 0px 0px 4px\; padding: 0px\; border: 0px\; font-family: inherit\; font-size: inherit\; font-style: inherit\; font-variant: inherit\; font-weight: inherit\; font-stretch: inherit\; line-height: inherit\; vertical-align: baseline\;"><span style="font-family:arial\;"><span style="font-size:14px\;">Thank you to our generous sponsors for making this event possible!</span></span>\n\n<ul style="margin-bottom: 0in\; color: rgb(34\, 34\, 34)\; font-family: Arial\, Helvetica\, sans-serif\; font-size: small\; margin-top: 0in\;" type="disc">\n	<li class="m_8761861517949802583MsoListParagraph" style="margin: 0in\; font-size: 11pt\; font-family: Calibri\, sans-serif\;">1<sup>st</sup>&nbsp\;Ave Collective</li>\n	<li class="m_8761861517949802583MsoListParagraph" style="margin: 0in\; font-size: 11pt\; font-family: Calibri\, sans-serif\;">American State Bank</li>\n	<li class="m_8761861517949802583MsoListParagraph" style="margin: 0in\; font-size: 11pt\; font-family: Calibri\, sans-serif\;">Angel Wings &amp\; CT</li>\n	<li class="m_8761861517949802583MsoListParagraph" style="margin: 0in\; font-size: 11pt\; font-family: Calibri\, sans-serif\;">B. Shannon Designs</li>\n	<li class="m_8761861517949802583MsoListParagraph" style="margin: 0in\; font-size: 11pt\; font-family: Calibri\, sans-serif\;">Ben Franklin</li>\n	<li class="m_8761861517949802583MsoListParagraph" style="margin: 0in\; font-size: 11pt\; font-family: Calibri\, sans-serif\;">Bridge 6 Design Co</li>\n	<li class="m_8761861517949802583MsoListParagraph" style="margin: 0in\; font-size: 11pt\; font-family: Calibri\, sans-serif\;">Heartland Fiber</li>\n	<li class="m_8761861517949802583MsoListParagraph" style="margin: 0in\; font-size: 11pt\; font-family: Calibri\, sans-serif\;">Homefront Real Estate</li>\n	<li class="m_8761861517949802583MsoListParagraph" style="margin: 0in\; font-size: 11pt\; font-family: Calibri\, sans-serif\;">Iowa Quilt Museum</li>\n	<li class="m_8761861517949802583MsoListParagraph" style="margin: 0in\; font-size: 11pt\; font-family: Calibri\, sans-serif\;">John Wayne Birthplace &amp\; Museum</li>\n	<li class="m_8761861517949802583MsoListParagraph" style="margin: 0in\; font-size: 11pt\; font-family: Calibri\, sans-serif\;">Judge Lewis House Bed &amp\; Breakfast</li>\n	<li class="m_8761861517949802583MsoListParagraph" style="margin: 0in\; font-size: 11pt\; font-family: Calibri\, sans-serif\;">Madison County Mercantile</li>\n	<li class="m_8761861517949802583MsoListParagraph" style="margin: 0in\; font-size: 11pt\; font-family: Calibri\, sans-serif\;">Midwest Land Group</li>\n	<li class="m_8761861517949802583MsoListParagraph" style="margin: 0in\; font-size: 11pt\; font-family: Calibri\, sans-serif\;">Montross Pharmacy</li>\n	<li class="m_8761861517949802583MsoListParagraph" style="margin: 0in\; font-size: 11pt\; font-family: Calibri\, sans-serif\;">Piece Works Quilt Shop</li>\n	<li class="m_8761861517949802583MsoListParagraph" style="margin: 0in\; font-size: 11pt\; font-family: Calibri\, sans-serif\;">Pine Creek Ltd.</li>\n	<li class="m_8761861517949802583MsoListParagraph" style="margin: 0in\; font-size: 11pt\; font-family: Calibri\, sans-serif\;">Pro Team Insurance</li>\n	<li class="m_8761861517949802583MsoListParagraph" style="margin: 0in\; font-size: 11pt\; font-family: Calibri\, sans-serif\;">Salon 107</li>\n	<li class="m_8761861517949802583MsoListParagraph" style="margin: 0in\; font-size: 11pt\; font-family: Calibri\, sans-serif\;">Shawn&rsquo\;s Furniture</li>\n	<li class="m_8761861517949802583MsoListParagraph" style="margin: 0in\; font-size: 11pt\; font-family: Calibri\, sans-serif\;">Speckled Hen Farms</li>\n	<li class="m_8761861517949802583MsoListParagraph" style="margin: 0in\; font-size: 11pt\; font-family: Calibri\, sans-serif\;">The Drift</li>\n	<li class="m_8761861517949802583MsoListParagraph" style="margin: 0in\; font-size: 11pt\; font-family: Calibri\, sans-serif\;">The Iowa Theater</li>\n	<li class="m_8761861517949802583MsoListParagraph" style="margin: 0in\; font-size: 11pt\; font-family: Calibri\, sans-serif\;">Village Bootery</li>\n	<li class="m_8761861517949802583MsoListParagraph" style="margin: 0in\; font-size: 11pt\; font-family: Calibri\, sans-serif\;">White Cottage Market</li>\n	<li class="m_8761861517949802583MsoListParagraph" style="margin: 0in\; font-size: 11pt\; font-family: Calibri\, sans-serif\;">Winterset Ballet &amp\; Dance Studio</li>\n</ul>\n</div>\n\n<div style="margin: 0px 0px 4px\; padding: 0px\; border: 0px\; font-family: inherit\; font-size: inherit\; font-style: inherit\; font-variant: inherit\; font-stretch: inherit\; line-height: inherit\; vertical-align: baseline\;">&nbsp\;</div>\n
LOCATION:All activities are on the Courthouse Square in Winterset. This year's parade theme is: Christmas Movies
UID:e.2010.2118
SEQUENCE:3
DTSTAMP:20260424T160032Z
URL:https://business.madisoncounty.com/events/details/festival-of-lights-2118
END:VEVENT

END:VCALENDAR
