BEGIN:VCALENDAR
VERSION:2.0
PRODID:-//ChamberMaster//Event Calendar 2.0//EN
METHOD:PUBLISH
X-PUBLISHED-TTL:P3D
REFRESH-INTERVAL:P3D
CALSCALE:GREGORIAN
BEGIN:VEVENT
DTSTART:20210702T131500Z
DTEND:20210702T140000Z
X-MICROSOFT-CDO-ALLDAYEVENT:FALSE
SUMMARY:Friday Chamber Coffee
DESCRIPTION:Join the Madison County Chamber of Commerce membership for an informal networking event every Friday morning over coffee!  The location changes each week to spotlight each member host.  No charge to attend - just bring your business cards and come prepared to network and meet other members!\n\n\n\nThis week's coffee will be hosted by American Legion Green Rogers Post #184.
X-ALT-DESC;FMTTYPE=text/html:<p class="MsoNormal">Join the Madison County Chamber of Commerce membership for an informal networking event every Friday morning over coffee!&nbsp\; The location changes each week to spotlight each member host.&nbsp\; No charge to attend - just bring your business cards and come prepared to network and meet other members!<br />\n<br />\nThis week&#39\;s coffee will be hosted by American Legion Green Rogers Post #184.<o:p></o:p></p>\n
LOCATION:American Legion Green Rogers Post #184\, 84 W Green St\, Winterset
UID:e.2010.2084
SEQUENCE:3
DTSTAMP:20260423T221513Z
URL:https://business.madisoncounty.com/events/details/friday-chamber-coffee-2084
END:VEVENT

END:VCALENDAR
