BEGIN:VCALENDAR
VERSION:2.0
PRODID:-//ChamberMaster//Event Calendar 2.0//EN
METHOD:PUBLISH
X-PUBLISHED-TTL:P3D
REFRESH-INTERVAL:P3D
CALSCALE:GREGORIAN
BEGIN:VEVENT
DTSTART:20210806T220000Z
DTEND:20210807T010000Z
X-MICROSOFT-CDO-ALLDAYEVENT:FALSE
SUMMARY:Fridays at 5 Concert Series
DESCRIPTION:The Madison County Chamber of Commerce is excited to partner once again with the City of Winterset Parks and Recreation Department on this FREE community event!  The "Fridays at 5" Concert Series at City Park is for families\, and lovers of music\, fresh air\, summer\, and fun!\n\n\n\nFood\, beer\, and soft drink sales will begin at 5:00 pm\, live music begins at 5:30.  This month's featured artist is: Sky Smeed.\n\n\n\nBring lawn chairs or blankets\, but please no coolers or additional food or drinks. \n\n\n\nPlease help us keep our community safe and stay at least 6 feet away from other concert guests. Signage will be posted to encourage guests to adhere to public health guidelines.
X-ALT-DESC;FMTTYPE=text/html:The Madison County Chamber of Commerce is excited to partner once again with the City of Winterset Parks and Recreation Department on this FREE community event!&nbsp\; The &quot\;Fridays at 5&quot\; Concert Series at City Park is for families\, and lovers of music\, fresh air\, summer\, and fun!<br />\n<br />\nFood\, beer\, and soft drink sales will begin at 5:00 pm\, live music begins at 5:30.&nbsp\; This month&#39\;s featured artist is: Sky Smeed.<br />\n<br />\nBring lawn chairs or blankets\, but please no coolers or additional food or drinks.&nbsp\;<br />\n<br />\nPlease help us keep our community safe and stay at least 6 feet away from other concert guests. Signage will be posted to encourage guests to adhere to public health guidelines.&nbsp\;<br />\n&nbsp\;
LOCATION:North Shelter at Winterset City Park
UID:e.2010.2070
SEQUENCE:3
DTSTAMP:20260424T015807Z
URL:https://business.madisoncounty.com/events/details/fridays-at-5-concert-series-2070
END:VEVENT

END:VCALENDAR
