BEGIN:VCALENDAR
VERSION:2.0
PRODID:-//ChamberMaster//Event Calendar 2.0//EN
METHOD:PUBLISH
X-PUBLISHED-TTL:P3D
REFRESH-INTERVAL:P3D
CALSCALE:GREGORIAN
BEGIN:VEVENT
DTSTART:20231029T180000Z
DTEND:20231029T230000Z
X-MICROSOFT-CDO-ALLDAYEVENT:FALSE
SUMMARY:Joshua Sinclair
DESCRIPTION:Join us at Winterset Cidery for great music by Joshua Sinclar from 2-5 pm and great hard apple cider. Bring your family and your lawn chairs!
X-ALT-DESC;FMTTYPE=text/html:Join us at Winterset Cidery for great music by Joshua Sinclar from 2-5 pm and great hard apple cider. Bring your family and your lawn chairs!
LOCATION:Winterset Cidery 1638 Highway 169 Winterset IA
UID:e.2010.2415
SEQUENCE:3
DTSTAMP:20260424T064726Z
URL:https://business.madisoncounty.com/events/details/joshua-sinclair-2415
END:VEVENT

END:VCALENDAR
