BEGIN:VCALENDAR
VERSION:2.0
PRODID:-//ChamberMaster//Event Calendar 2.0//EN
METHOD:PUBLISH
X-PUBLISHED-TTL:P3D
REFRESH-INTERVAL:P3D
CALSCALE:GREGORIAN
BEGIN:VEVENT
DTSTART:20230831T210000Z
DTEND:20230901T020000Z
X-MICROSOFT-CDO-ALLDAYEVENT:FALSE
SUMMARY:KARAOKE
DESCRIPTION:KARAOKE Night at the Winterset Cidery! Bring your own snacks & your singing voice! KARAOKE from 7-9 pm
X-ALT-DESC;FMTTYPE=text/html:KARAOKE Night at the Winterset Cidery! Bring your own snacks &amp\; your singing voice! KARAOKE from 7-9 pm
LOCATION:Winterset Cidery 1638 Hwy 169 Winterset\, IA
UID:e.2010.2244
SEQUENCE:3
DTSTAMP:20260424T082533Z
URL:https://business.madisoncounty.com/events/details/karaoke-2244
END:VEVENT

END:VCALENDAR
