BEGIN:VCALENDAR
VERSION:2.0
PRODID:-//ChamberMaster//Event Calendar 2.0//EN
METHOD:PUBLISH
X-PUBLISHED-TTL:P3D
REFRESH-INTERVAL:P3D
CALSCALE:GREGORIAN
BEGIN:VEVENT
DTSTART:20200328T120000Z
DTEND:20200328T160000Z
X-MICROSOFT-CDO-ALLDAYEVENT:FALSE
SUMMARY:Kiwanis Spring Pancake
DESCRIPTION:Fund raiser for Madison County Kids Programs
X-ALT-DESC;FMTTYPE=text/html:Fund raiser for Madison County Kids Programs
LOCATION:American Legion Hall
UID:e.2010.1928
SEQUENCE:3
DTSTAMP:20260424T210207Z
URL:https://business.madisoncounty.com/events/details/kiwanis-spring-pancake-1928
END:VEVENT

END:VCALENDAR
