BEGIN:VCALENDAR
VERSION:2.0
PRODID:-//ChamberMaster//Event Calendar 2.0//EN
METHOD:PUBLISH
X-PUBLISHED-TTL:P3D
REFRESH-INTERVAL:P3D
CALSCALE:GREGORIAN
BEGIN:VEVENT
DTSTART:20230811T233000Z
DTEND:20230812T023000Z
X-MICROSOFT-CDO-ALLDAYEVENT:FALSE
SUMMARY:Liv McNair Music
DESCRIPTION:Join us for Date Night and Live Music by Liv McNair. Winterset Cidery open 1-10 pm. Music 6:30-9:30 pm Bring you own lawn chairs (weather permitting)\, and snacks. If too hot we will be inside.
X-ALT-DESC;FMTTYPE=text/html:Join us for Date Night and Live Music by Liv McNair. Winterset Cidery open 1-10 pm. Music 6:30-9:30 pm Bring you own lawn chairs (weather permitting)\, and snacks. If too hot we will be inside.
LOCATION:Winterset Cidery
UID:e.2010.2446
SEQUENCE:3
DTSTAMP:20260424T065213Z
URL:https://business.madisoncounty.com/events/details/liv-mcnair-music-2446
END:VEVENT

END:VCALENDAR
