BEGIN:VCALENDAR
VERSION:2.0
PRODID:-//ChamberMaster//Event Calendar 2.0//EN
METHOD:PUBLISH
X-PUBLISHED-TTL:P3D
REFRESH-INTERVAL:P3D
CALSCALE:GREGORIAN
BEGIN:VEVENT
DTSTART;VALUE=DATE:20210721
DTEND;VALUE=DATE:20210726
TRANSP:TRANSPARENT
X-MICROSOFT-CDO-ALLDAYEVENT:TRUE
SUMMARY:Madison County Fair
DESCRIPTION:Its county fair time! The 2021 Madison County Fair will be held on July 21-25 at the Madison County Fairgrounds in Winterset. There are plenty of activities for the whole family to enjoy! There is free gate admission along with plenty of free entertainment which includes Impact Pro Wrestling\, Little Farmer Barn\, Face Painting\, and Balloon Animal Creation. Also\, don't forget to catch the variety of livestock from local 4-H and FFA Members. There are many other events including the Duckworth Rodeo and the Remote Control Demo Derby.
X-ALT-DESC;FMTTYPE=text/html:Its county fair time! The 2021 Madison County Fair will be held on July 21-25 at the Madison County Fairgrounds in Winterset. There are plenty of activities for the whole family to enjoy! There is free gate admission along with plenty of free entertainment which includes Impact Pro Wrestling\, Little Farmer Barn\, Face Painting\, and Balloon Animal Creation. Also\, don&#39\;t forget to catch the variety of livestock from local 4-H and FFA Members. There are many other events including the Duckworth Rodeo and the Remote Control Demo Derby.
LOCATION:Madison County Fairgrounds in Winterset\, Iowa
UID:e.2010.2072
SEQUENCE:3
DTSTAMP:20260423T233651Z
URL:https://business.madisoncounty.com/events/details/madison-county-fair-07-21-2021-2072
END:VEVENT

END:VCALENDAR
