BEGIN:VCALENDAR
VERSION:2.0
PRODID:-//ChamberMaster//Event Calendar 2.0//EN
METHOD:PUBLISH
X-PUBLISHED-TTL:P3D
REFRESH-INTERVAL:P3D
CALSCALE:GREGORIAN
BEGIN:VEVENT
DTSTART;VALUE=DATE:20240726
DTEND;VALUE=DATE:20240728
TRANSP:TRANSPARENT
X-MICROSOFT-CDO-ALLDAYEVENT:TRUE
SUMMARY:Old Settlers Celebration
DESCRIPTION:Come to St. Charles\, IA  for the Old Settler's Celebration!\n\n\n\nActivities include a classic car show\, parade\, kids games\, children's rides\, quilt show\, 1K/5K fun run/walk\, 3-on-3 basketball\, spelling bee\, cow pie bingo\, plus musical entertainment and much more!
X-ALT-DESC;FMTTYPE=text/html:Come to St. Charles\, IA&nbsp\; for the Old Settler&#39\;s Celebration!<br />\n<br />\nActivities include a classic car show\, parade\, kids games\, children&#39\;s rides\, quilt show\, 1K/5K fun run/walk\, 3-on-3 basketball\, spelling bee\, cow pie bingo\, plus musical entertainment and much more!<br />\n<br />\n&nbsp\;
LOCATION:St. Charles\, Iowa
UID:e.2010.2733
SEQUENCE:3
DTSTAMP:20260419T125202Z
URL:https://business.madisoncounty.com/events/details/old-settlers-celebration-2733
END:VEVENT

END:VCALENDAR
