BEGIN:VCALENDAR
VERSION:2.0
PRODID:-//ChamberMaster//Event Calendar 2.0//EN
METHOD:PUBLISH
X-PUBLISHED-TTL:P3D
REFRESH-INTERVAL:P3D
CALSCALE:GREGORIAN
BEGIN:VEVENT
DTSTART:20250921T213000Z
DTEND:20250921T233000Z
X-MICROSOFT-CDO-ALLDAYEVENT:FALSE
SUMMARY:Picnic Theater: Agrimusic
DESCRIPTION:Seth Hedquist combines his background in history and music to tell a unique story about Iowa agricultural musicians in the early 20th century\, in an all original\, twelve-song cycle at our late summer picnic theater. \n\nAbout the Performer\n\nHedquist earned a BS in History (2009) and an MA in History (2015)\, both from Iowa State University. His work focuses on rural Iowa musicians who played at state and county farm bureau events in the 1920s and 30s. He investigates who these musicians were\, and what needs they fulfilled for the organization\, and for themselves\, by participating in those events. His work further examines to what extent the styles they played measured up to farm bureau and Country Life leaders' expectations for rural music at that time. This topic explores themes of rural identity and nostalgia\, and the complexities of playing music for organizations during trying times of heightened pressure\, like the 1920s and 30s.\n\nHis master's thesis The Chronicles of Agrimusic won the Iowa History Center's "Outstanding Master's Thesis Award" in 2016\, and his article "Boost the Farm Bureau: Agricultural Leaders\, Progressive Musicians\, and Social Orchestration in Iowa\, 1921   1937" appears in Agricultural History (Vol. 93\, No. 2\, Spring 2019). \n\nHedquist works as a full-time musician in Des Moines\, Iowa.\n\nChoose from two ticket options:\n\n\n	Picnic + Performance: includes a picnic sandwich\, salad and dessert\n	Performance Only\n\n\nDrinks (wine\, beer and specialty drinks) available to purchase for all. Outdoor food and drinks are not permitted. Doors open at 4:30 pm\; theater starts at 5 pm. Bring your own lawn chair or blanket as seating is limited.
X-ALT-DESC;FMTTYPE=text/html:<p><span style="font-family:arial\,sans-serif">Seth Hedquist combines his background in history and music to tell a unique story about Iowa agricultural musicians in the early 20th century\, in an all original\, twelve-song cycle at our late summer picnic theater.&nbsp\;</span></p>\n\n<p><span style="font-family:arial\,sans-serif"><em><strong>About the Performer</strong></em><br />\nHedquist earned a BS in History (2009) and an MA in History (2015)\, both from Iowa State University. His work focuses on rural Iowa musicians who played at state and county farm bureau events in the 1920s and 30s. He investigates who these musicians were\, and what needs they fulfilled for the organization\, and for themselves\, by participating in those events. His work further examines to what extent the styles they played measured up to farm bureau and Country Life leaders&rsquo\; expectations for rural music at that time. This topic explores themes of rural identity and nostalgia\, and the complexities of playing music for organizations during trying times of heightened pressure\, like the 1920s and 30s.</span></p>\n\n<p><span style="font-family:arial\,sans-serif">His master&rsquo\;s thesis&nbsp\;<em>The Chronicles of Agrimusic</em>&nbsp\;won the Iowa History Center&rsquo\;s &ldquo\;Outstanding Master&rsquo\;s Thesis Award&rdquo\; in 2016\, and his article &ldquo\;Boost the Farm Bureau: Agricultural Leaders\, Progressive Musicians\, and Social Orchestration in Iowa\, 1921 &ndash\; 1937&rdquo\; appears in&nbsp\;<em>Agricultural History&nbsp\;</em>(Vol. 93\, No. 2\, Spring 2019).&nbsp\;</span></p>\n\n<p>Hedquist works as a full-time musician in Des Moines\, Iowa.</p>\n\n<p>Choose from two ticket options:</p>\n\n<ul>\n	<li><strong>Picnic + Performance:&nbsp\;</strong>includes a picnic sandwich\, salad and dessert</li>\n	<li><strong>Performance Only</strong></li>\n</ul>\n\n<p>Drinks (wine\, beer and specialty drinks) available to purchase for all. Outdoor food and drinks are not permitted. Doors open at 4:30 pm\; theater starts at 5 pm. Bring your own lawn chair or blanket as seating is limited.</p>\n
LOCATION:Wallace Farm 2773 290th Street Orient\, IA
UID:e.2010.2924
SEQUENCE:3
DTSTAMP:20260422T103452Z
URL:https://business.madisoncounty.com/events/details/picnic-theater-agrimusic-2924
END:VEVENT

END:VCALENDAR
