BEGIN:VCALENDAR
VERSION:2.0
PRODID:-//ChamberMaster//Event Calendar 2.0//EN
METHOD:PUBLISH
X-PUBLISHED-TTL:P3D
REFRESH-INTERVAL:P3D
CALSCALE:GREGORIAN
BEGIN:VEVENT
DTSTART;VALUE=DATE:20251121
DTEND;VALUE=DATE:20251122
TRANSP:TRANSPARENT
X-MICROSOFT-CDO-ALLDAYEVENT:TRUE
SUMMARY:PINK FRIDAY
DESCRIPTION:Join Local small businesses for PINK FRIDAY! Enjoy sales and all things pink to kick off the small business holiday season! This is a great way to support our local small businesses.
X-ALT-DESC;FMTTYPE=text/html:Join Local small businesses for PINK FRIDAY! Enjoy sales and all things pink to kick off the small business holiday season! This is a great way to support our local small businesses.
LOCATION:
UID:e.2010.2931
SEQUENCE:3
DTSTAMP:20260422T131116Z
URL:https://business.madisoncounty.com/events/details/pink-friday-11-21-2025-2931
END:VEVENT

END:VCALENDAR
