BEGIN:VCALENDAR
VERSION:2.0
PRODID:-//ChamberMaster//Event Calendar 2.0//EN
METHOD:PUBLISH
X-PUBLISHED-TTL:P3D
REFRESH-INTERVAL:P3D
CALSCALE:GREGORIAN
BEGIN:VEVENT
DTSTART;VALUE=DATE:20251121
DTEND;VALUE=DATE:20251122
TRANSP:TRANSPARENT
X-MICROSOFT-CDO-ALLDAYEVENT:TRUE
SUMMARY:Pink Friday
DESCRIPTION:Get a jump on supporting small businesses during this nation wide event! Several shops in Winterset have jumped aboard this fun day! Bring your friends and share the day with them!
X-ALT-DESC;FMTTYPE=text/html:Get a jump on supporting small businesses during this nation wide event! Several shops in Winterset have jumped aboard this fun day! Bring your friends and share the day with them!
LOCATION:Winterset\, IA
UID:e.2010.2930
SEQUENCE:3
DTSTAMP:20260422T132339Z
URL:https://business.madisoncounty.com/events/details/pink-friday-2930
END:VEVENT

END:VCALENDAR
