BEGIN:VCALENDAR
VERSION:2.0
PRODID:-//ChamberMaster//Event Calendar 2.0//EN
METHOD:PUBLISH
X-PUBLISHED-TTL:P3D
REFRESH-INTERVAL:P3D
CALSCALE:GREGORIAN
BEGIN:VEVENT
DTSTART:20230819T180000Z
DTEND:20230820T030000Z
X-MICROSOFT-CDO-ALLDAYEVENT:FALSE
SUMMARY:Tyler Richton & High Bank Boys
DESCRIPTION:Winterset Cidery Open 1 - 10 pm Join us for our amazing locally made Hard Apple Cider and great music by the Tyler Richton & High Bank Boys. Music from 6-10 pm\; Food Truck=Madison County Pork Producers & Dough Crazy. Bring the family and your lawn chairs!
X-ALT-DESC;FMTTYPE=text/html:Winterset Cidery Open 1 - 10 pm Join us for our amazing locally made Hard Apple Cider and great music by the Tyler Richton &amp\; High Bank Boys. Music from 6-10 pm\; Food Truck=Madison County Pork Producers &amp\; Dough Crazy. Bring the family and your lawn chairs!
LOCATION:Winterset Cidery 1638 Hwy 169 Winterset\, IA 50273
UID:e.2010.2215
SEQUENCE:3
DTSTAMP:20260424T065447Z
URL:https://business.madisoncounty.com/events/details/tyler-richton-high-bank-boys-2215
END:VEVENT

END:VCALENDAR
