BEGIN:VCALENDAR
VERSION:2.0
PRODID:-//ChamberMaster//Event Calendar 2.0//EN
METHOD:PUBLISH
X-PUBLISHED-TTL:P3D
REFRESH-INTERVAL:P3D
CALSCALE:GREGORIAN
BEGIN:VEVENT
DTSTART:20210701T231500Z
DTEND:20210702T010000Z
X-MICROSOFT-CDO-ALLDAYEVENT:FALSE
SUMMARY:Winterset Community Band Summer Concert Series
DESCRIPTION:Patriotic Concert - Get your Independence Day holiday off to a good start! Refreshments provided by the Madison County Historical Society starting at 6:15 PM. Concert start time is 7:00 PM
X-ALT-DESC;FMTTYPE=text/html:Patriotic Concert - Get your Independence Day holiday off to a good start! Refreshments provided by the Madison County Historical Society starting at 6:15 PM. Concert start time is 7:00 PM
LOCATION:Bevington Mansion Porch at the Madison County Historical Complex
UID:e.2010.2086
SEQUENCE:3
DTSTAMP:20260423T233931Z
URL:https://business.madisoncounty.com/events/details/winterset-community-band-summer-concert-series-2086
END:VEVENT

END:VCALENDAR
