BEGIN:VCALENDAR
VERSION:2.0
PRODID:-//ChamberMaster//Event Calendar 2.0//EN
METHOD:PUBLISH
X-PUBLISHED-TTL:P3D
REFRESH-INTERVAL:P3D
CALSCALE:GREGORIAN
BEGIN:VEVENT
DTSTART;VALUE=DATE:20240723
DTEND;VALUE=DATE:20240724
TRANSP:TRANSPARENT
X-MICROSOFT-CDO-ALLDAYEVENT:TRUE
SUMMARY:Winterset RAGBRAI
DESCRIPTION:Join us as Winterset welcomes thousands of RAGBRAI riders into Madison County!  Enjoy games on the courthouse square\, lots of food and activities\, and an afternoon and evening of live music!
X-ALT-DESC;FMTTYPE=text/html:Join us as Winterset welcomes thousands of RAGBRAI riders into Madison County!&nbsp\; Enjoy games on the courthouse square\, lots of food and activities\, and an afternoon and evening of live music!&nbsp\;&nbsp\;&nbsp\;&nbsp\;
LOCATION:Courthouse Square\, Winterset
UID:e.2010.2735
SEQUENCE:3
DTSTAMP:20260419T124049Z
URL:https://business.madisoncounty.com/events/details/winterset-ragbrai-2735
END:VEVENT

END:VCALENDAR
