BEGIN:VCALENDAR
VERSION:2.0
PRODID:-//ChamberMaster//Event Calendar 2.0//EN
METHOD:PUBLISH
X-PUBLISHED-TTL:P3D
REFRESH-INTERVAL:P3D
CALSCALE:GREGORIAN
BEGIN:VEVENT
DTSTART:20170609T230000Z
DTEND:20170610T020000Z
X-MICROSOFT-CDO-ALLDAYEVENT:FALSE
SUMMARY:Winterset's Ladies Night Out
DESCRIPTION:Just for the ladies - a special night of shopping\, pampering\, photos\, games\, wine tasting\, food sampling\, and more!
X-ALT-DESC;FMTTYPE=text/html:Just for the ladies - a special night of shopping\, pampering\, photos\, games\, wine tasting\, food sampling\, and more!<br />\n<br />\n&nbsp\;
LOCATION:Merchants and businesses around the courthouse square in downtown Winterset
UID:e.2010.1070
SEQUENCE:3
DTSTAMP:20260424T220659Z
URL:https://business.madisoncounty.com/events/details/winterset-s-ladies-night-out-1070
END:VEVENT

END:VCALENDAR
