BEGIN:VCALENDAR
VERSION:2.0
PRODID:-//ChamberMaster//Event Calendar 2.0//EN
METHOD:PUBLISH
X-PUBLISHED-TTL:P3D
REFRESH-INTERVAL:P3D
CALSCALE:GREGORIAN
BEGIN:VEVENT
DTSTART:20180512T210000Z
DTEND:20180513T000000Z
X-MICROSOFT-CDO-ALLDAYEVENT:FALSE
SUMMARY:Winterset Wine Walk
DESCRIPTION:Join the Madison County Chamber of Commerce\, downtown Winterset merchants\, and area wineries for shopping\, wine sampling\, food pairings\, live music\, and more!  \n\n\n\nMust be 21 years of age or older to participate\; wristbands will be required.
X-ALT-DESC;FMTTYPE=text/html:<span style="font-family: 'lucida grande'\, tahoma\, verdana\, arial\, sans-serif\; line-height: 16.639999389648438px\;">Join the Madison County Chamber of Commerce\, downtown Winterset merchants\, and area wineries for shopping\, wine sampling\, food pairings\, live music\, and more! &nbsp\;<br />\n<br />\nMust be 21 years of age or older to participate\; wristbands will be required.</span><br />\n<br />\n<br />\n&nbsp\;
LOCATION:Madison County Courthouse Square in downtown Winterset
UID:e.2010.1375
SEQUENCE:3
DTSTAMP:20260424T205204Z
URL:https://business.madisoncounty.com/events/details/winterset-wine-walk-1375
END:VEVENT

END:VCALENDAR
