BEGIN:VCALENDAR
VERSION:2.0
PRODID:-//ChamberMaster//Event Calendar 2.0//EN
METHOD:PUBLISH
X-PUBLISHED-TTL:P3D
REFRESH-INTERVAL:P3D
CALSCALE:GREGORIAN
BEGIN:VEVENT
DTSTART:20230805T233000Z
DTEND:20230806T023000Z
X-MICROSOFT-CDO-ALLDAYEVENT:FALSE
SUMMARY:Zachary Freedom Trio
DESCRIPTION:"The Zachary Freedom Trio" Winterset Cidery August 5th: 6:30-9:30PM Food Truck = Cheezin Family & Pet Friendly\, bring your outdoor lawn chairs. $5 per person or $20 per car load. Kids 17 and under are free.
X-ALT-DESC;FMTTYPE=text/html:&ldquo\;The Zachary Freedom Trio&rdquo\; Winterset Cidery August 5th: 6:30-9:30PM Food Truck = Cheezin Family &amp\; Pet Friendly\, bring your outdoor lawn chairs. $5 per person or $20 per car load. Kids 17 and under are free.&nbsp\;
LOCATION:Winterset Cidery
UID:e.2010.2445
SEQUENCE:3
DTSTAMP:20260424T065044Z
URL:https://business.madisoncounty.com/events/details/zachary-freedom-trio-2445
END:VEVENT

END:VCALENDAR
